BEGIN:VCALENDAR
VERSION:2.0
PRODID:-//Košarkarski Klub Hidria - ECPv6.15.20//NONSGML v1.0//EN
CALSCALE:GREGORIAN
METHOD:PUBLISH
X-WR-CALNAME:Košarkarski Klub Hidria
X-ORIGINAL-URL:https://www.kk-hidria.si
X-WR-CALDESC:Dogodki za Košarkarski Klub Hidria
REFRESH-INTERVAL;VALUE=DURATION:PT1H
X-Robots-Tag:noindex
X-PUBLISHED-TTL:PT1H
BEGIN:VTIMEZONE
TZID:Europe/Helsinki
BEGIN:DAYLIGHT
TZOFFSETFROM:+0200
TZOFFSETTO:+0300
TZNAME:EEST
DTSTART:20250330T010000
END:DAYLIGHT
BEGIN:STANDARD
TZOFFSETFROM:+0300
TZOFFSETTO:+0200
TZNAME:EET
DTSTART:20251026T010000
END:STANDARD
BEGIN:DAYLIGHT
TZOFFSETFROM:+0200
TZOFFSETTO:+0300
TZNAME:EEST
DTSTART:20260329T010000
END:DAYLIGHT
BEGIN:STANDARD
TZOFFSETFROM:+0300
TZOFFSETTO:+0200
TZNAME:EET
DTSTART:20261025T010000
END:STANDARD
BEGIN:DAYLIGHT
TZOFFSETFROM:+0200
TZOFFSETTO:+0300
TZNAME:EEST
DTSTART:20270328T010000
END:DAYLIGHT
BEGIN:STANDARD
TZOFFSETFROM:+0300
TZOFFSETTO:+0200
TZNAME:EET
DTSTART:20271031T010000
END:STANDARD
END:VTIMEZONE
BEGIN:VEVENT
DTSTART;TZID=Europe/Helsinki:20260124T190000
DTEND;TZID=Europe/Helsinki:20260124T210000
DTSTAMP:20260419T220841
CREATED:20250925T122139Z
LAST-MODIFIED:20251214T154944Z
UID:5196-1769281200-1769288400@www.kk-hidria.si
SUMMARY:Hidria vs. Celje
DESCRIPTION:
URL:https://www.kk-hidria.si/tekma/hidria-vs-celje-5/
LOCATION:Modra dvorana\, Lapajnetova ulica 48\, Idrija\, 5280\, Slovenia
CATEGORIES:2. SKL
END:VEVENT
END:VCALENDAR