BEGIN:VCALENDAR
VERSION:2.0
PRODID:-//Košarkarski Klub Hidria - ECPv6.15.20//NONSGML v1.0//EN
CALSCALE:GREGORIAN
METHOD:PUBLISH
X-ORIGINAL-URL:https://www.kk-hidria.si
X-WR-CALDESC:Dogodki za Košarkarski Klub Hidria
REFRESH-INTERVAL;VALUE=DURATION:PT1H
X-Robots-Tag:noindex
X-PUBLISHED-TTL:PT1H
BEGIN:VTIMEZONE
TZID:Europe/Helsinki
BEGIN:DAYLIGHT
TZOFFSETFROM:+0200
TZOFFSETTO:+0300
TZNAME:EEST
DTSTART:20250330T010000
END:DAYLIGHT
BEGIN:STANDARD
TZOFFSETFROM:+0300
TZOFFSETTO:+0200
TZNAME:EET
DTSTART:20251026T010000
END:STANDARD
BEGIN:DAYLIGHT
TZOFFSETFROM:+0200
TZOFFSETTO:+0300
TZNAME:EEST
DTSTART:20260329T010000
END:DAYLIGHT
BEGIN:STANDARD
TZOFFSETFROM:+0300
TZOFFSETTO:+0200
TZNAME:EET
DTSTART:20261025T010000
END:STANDARD
BEGIN:DAYLIGHT
TZOFFSETFROM:+0200
TZOFFSETTO:+0300
TZNAME:EEST
DTSTART:20270328T010000
END:DAYLIGHT
BEGIN:STANDARD
TZOFFSETFROM:+0300
TZOFFSETTO:+0200
TZNAME:EET
DTSTART:20271031T010000
END:STANDARD
END:VTIMEZONE
BEGIN:VEVENT
DTSTART;TZID=Europe/Helsinki:20260306T190000
DTEND;TZID=Europe/Helsinki:20260306T210000
DTSTAMP:20260419T170754
CREATED:20250925T122154Z
LAST-MODIFIED:20260305T174220Z
UID:5202-1772823600-1772830800@www.kk-hidria.si
SUMMARY:Hidria vs. Portorož
DESCRIPTION:
URL:https://www.kk-hidria.si/tekma/hidria-vs-portoroz-7/
LOCATION:Modra dvorana\, Lapajnetova ulica 48\, Idrija\, 5280\, Slovenia
CATEGORIES:2. SKL
END:VEVENT
BEGIN:VEVENT
DTSTART;TZID=Europe/Helsinki:20260314T190000
DTEND;TZID=Europe/Helsinki:20260314T210000
DTSTAMP:20260419T170754
CREATED:20250925T122154Z
LAST-MODIFIED:20251214T154848Z
UID:5203-1773514800-1773522000@www.kk-hidria.si
SUMMARY:Gorica vs. Hidria
DESCRIPTION:
URL:https://www.kk-hidria.si/tekma/gorica-vs-hidria-5/
CATEGORIES:2. SKL
END:VEVENT
BEGIN:VEVENT
DTSTART;TZID=Europe/Helsinki:20260328T180000
DTEND;TZID=Europe/Helsinki:20260328T200000
DTSTAMP:20260419T170754
CREATED:20260413T054231Z
LAST-MODIFIED:20260413T054231Z
UID:5614-1774720800-1774728000@www.kk-hidria.si
SUMMARY:Ljubljana vs. Hidria
DESCRIPTION:
URL:https://www.kk-hidria.si/tekma/ljubljana-vs-hidria-4/
CATEGORIES:2. SKL
END:VEVENT
END:VCALENDAR